BEGIN:VCALENDAR
VERSION:2.0
PRODID:-//wp-events-plugin.com//7.2.3.1//EN
TZID:America/New_York
X-WR-TIMEZONE:America/New_York
BEGIN:VEVENT
UID:11@orientassociation.org
DTSTART;TZID=America/New_York:20241026T170000
DTEND;TZID=America/New_York:20241026T190000
DTSTAMP:20241017T141355Z
URL:https://orientassociation.org/events/the-2024-orient-village-halloween
 -trick-or-treat/
SUMMARY:The 2024 Orient Village Halloween Trick-or-Treat
DESCRIPTION:The Annual Orient Village Halloween Trick-or-Treat - Saturday\,
  October 26 from 5:00 - 7:00pm.\nWear your costume and come trick-or-treat
  in Orient!\nVillage Lane will be closed to vehicle traffic for safety for
  the two hours of trick or treating. Candy stations will be most dense on 
 Village Lane\, but some participating houses will be lit up for trick or t
 reating on Skippers and Oysterponds.
ATTACH;FMTTYPE=image/jpeg:https://orientassociation.org/wp-content/uploads
 /2024/10/Orient-Halloween-Thumb.jpg
CATEGORIES:Past Events
LOCATION:Orient Village\, Village Lane\, Orient\, New York\, 11957\, United
  States
X-APPLE-STRUCTURED-LOCATION;VALUE=URI;X-ADDRESS=Village Lane\, Orient\, New
  York\, 11957\, United States;X-APPLE-RADIUS=100;X-TITLE=Orient Village:ge
 o:0,0
END:VEVENT
BEGIN:VTIMEZONE
TZID:America/New_York
X-LIC-LOCATION:America/New_York
BEGIN:DAYLIGHT
DTSTART:20240310T030000
TZOFFSETFROM:-0500
TZOFFSETTO:-0400
TZNAME:EDT
END:DAYLIGHT
END:VTIMEZONE
END:VCALENDAR