BEGIN:VCALENDAR
VERSION:2.0
PRODID:-//wp-events-plugin.com//7.2.3.1//EN
TZID:America/New_York
X-WR-TIMEZONE:America/New_York
BEGIN:VEVENT
UID:12@orientassociation.org
DTSTART;TZID=America/New_York:20241027T140000
DTEND;TZID=America/New_York:20241027T153000
DTSTAMP:20241027T205122Z
URL:https://orientassociation.org/events/saltwater-intrusion-forum/
SUMMARY:Saltwater Intrusion Forum
DESCRIPTION:The Orient Association is having a Forum on saltwater intrusion
  on Sunday\, October 27th at 2pm in Poquatuck Hall. The ongoing water stu
 dy points to sea level rise and saltwater intrusion as a substantial threa
 t to the Orient community.
ATTACH;FMTTYPE=image/jpeg:https://orientassociation.org/wp-content/uploads
 /2024/10/Orient-Marsh.jpg
CATEGORIES:Past Events
END:VEVENT
BEGIN:VTIMEZONE
TZID:America/New_York
X-LIC-LOCATION:America/New_York
BEGIN:DAYLIGHT
DTSTART:20240310T030000
TZOFFSETFROM:-0500
TZOFFSETTO:-0400
TZNAME:EDT
END:DAYLIGHT
END:VTIMEZONE
END:VCALENDAR